Workbook

Sheet Lap bagi hasil
A1: PERHITUNGAN KOMIS SALES
A2: NAMA SALES : budiono
A3: PERIODE : Oct-Dec 2025
A4: SO:006723, 006737, 006701
A6: KETERANGAN | B6: JUMLAH
A8: PENJUALAN | B8: ='Laba kotor'!M39 -> 4.6605495e+08
A9: Komisi SO 006613,6632 | B9: =21280000+53900000 -> 75180000
A10: Penjualan bersih | B10: =B8-B9 -> 3.9087495e+08
A12: HARGA POKOK PEMBELIAN
A13: .- PEMBELIAN BARANG | B13: ='Laba kotor'!S39 -> 3.2033667e+08
A14: - BIAYA EXPEDISI & IMPORT
A15: - PENGIRIMAN LOKAL
A16: TOTAL HARGA POKOK PEMBELIAN
A18: LABA KOTOR | B18: =B10-B13 -> 70538284
A20: BIAYA PENJUALAN
A21: Beban Expedisi | B21: =Biaya!F16 -> 3520000
A22: Beban Alat bantu Proyek | B22: =Biaya!F2 -> 0
A23: Beban Perlengkapan Operasi | B23: =Biaya!F30 -> 322000
A24: Beban Sewa Mobil | B24: =Biaya!F34 -> 0
A25: Beban Bensin , parkir, toll | B25: =Biaya!F13 -> 300000
A26: Beban lemburan | B26: =Biaya!F33 -> 100000
A27: Beban Proyek | B27: =Biaya!F31 -> 0
A28: Beban Tip
A29: Beban insentif perjalanan dinas | B29: =Biaya!F49 -> 0
A30: Beban perjalanan dalam negeri | B30: =Biaya!F26 -> 40229741
A31: Beban transportasi | B31: =Biaya!F43 -> 0
A32: Beban gaji | B32: =Biaya!F38 -> 14587500
A34: TOTAL BIAYA | B34: =SUM(B20:B33) -> 59059241
A36: Laba BERSIH | B36: =B18-B34 -> 11479043
A38: - MVP =85% | B38: =B36*85% -> 9757186.5
A39: - Budiono = 15% | B39: =B36*15% -> 1721856.4
A40: tdk capai target per Oct - Dec 2025 | B40: -3000000
A41: total komisi per Oct - Dec 2025 | B41: =SUM(B39:B40) -> -1278143.6
A43: catatan :
A44: Defisit Per July - Sep 2025 | B44: -1408673
A45: Defisit per Apr - June 2025 | B45: =-1459030 -> -1459030
A46: Defisit per July - Des 24 | B46: =-1877230 -> -1877230
A48: total defisit yg akan diperhitungkan ke komisi berikut per Jan - Mar 2025 | B48: =SUM(B41:B47) -> -6023076.6

Sheet SO Budiono
A1: PT. MITSINDO VISUAL PRATAMA
A2: Ringkasan Daftar Pesanan Penjualan
A3: Dari 01 Oct 2025 ke 31 Dec 2025 ( Q-4 )
A5: Filter berdasarkan :Status
A6: Nama Penjual | B6: Tgl Pesan | C6: No. Pesanan | D6: No. Pelanggan | E6: Nama Pelanggan | F6: Status | G6: No. PO | H6: Jumlah | I6: Uang Muka | J6: Uang Muka Terpakai | K6: Keterangan
A8: BUDIONO | B8: 20 Nop 2025 | C8: 6701 | D8: 1120T.00055IDR-C | E8: TRIKREASINDO MANDIRI SENTOSA | F8: Terproses | G8: XN2QD/TMS-XI-00686 | H8: 173280000 | K8: CBM Digital Signage Standing Floor CSIGNPRO-65SFC1MT - Touchscreen 4 Unit
A9: BUDIONO | B9: 08 Dec 2025 | C9: 6723 | D9: 1120S.00193IDR-C | E9: SOLUSI SIMPEL INDONESIA. PT | F9: Mengantri | G9: SSI-CB250000079-R0 | H9: 293516000 | K9: PROYEK MAUMERE P2.5 Indoor 24 Kabinet KANTOR IMIGRASI KELAS II TPI MAUMERE
A10: BUDIONO | B10: 17 Des 2025 | C10: 6737 | D10: 1120P.00103IDR-C | E10: PUTRA KITA | F10: Terproses | G10: PK16122025 | H10: 50525000 | K10: Televisi Led LG 43UT801C 5 Unit dan 65UT801C 2 Unit
B11: NOTE : TDK MENCAPAI TARGET - potong Rp 3.000.000 | H11: =SUM(H8:H10) -> 517321000

Sheet Laba kotor
A3: PT. MITSINDO VISUAL PRATAMA
A4: Rincian pelunasan penjualan per barang
A5: Dari 01 Oct - 31 Dec 2025
A6: Sales Order/SO | C6: Delivery Order/ DO | E6: Faktur Penjualan | P6: Faktur pembelian | T6: Laba Kotor | U6: Biaya PPH 22 | V6: KETERANGAN PEMBELIAN (NO PO) | X6: No. Form Last Payment | Y6: Tgl terima Last Payment | Z6: Tgl Cek Last Payment | AA6: Jumlah Pembayaran Faktur | AB6: Jumlah Diskon Last Payment | AC6: Nama Bank
A7: Tgl SO | B7: No.SO | C7: Tgl DO | D7: NO DO | E7: Tgl INV | F7: No. INV | G7: Nama Pelanggan | H7: Nama Penjual | I7: No. Barang | J7: Keterangan Barang | K7: Kuantitas | L7: Harga satuan | M7: DPP | N7: PPN 11% | O7: Total | P7: Nilai HPP | Q7: PPN | R7: import | S7: Total
A9: 20 Nop 2025 | B9: 6701 | C9: 28 Nop 2025 | D9: SJ-MVP/V/25/11/028 | E9: 28 Nop 2025 | F9: INV-MVP/V/25/11/210 | G9: TRIKREASINDO MANDIRI SENTOSA | H9: BUDIONO | I9: 24,00,01,254 | J9: CBM Digital Signage Standing Floor CSIGNPRO-65SFC1MT - Touchscreen | K9: 4 | L9: =43320000/1.11 -> 39027027 | M9: =K9*L9 -> 1.5610811e+08 | N9: =M9*11% -> 17171892 | O9: =M9+N9 -> 173280000 | P9: =121600000/1.11 -> 1.0954955e+08 | Q9: =P9*11% -> 12050450 | S9: =P9+Q9+R9 -> 1.216e+08 | T9: =M9-S9 -> 34508108 | V9: PO-25/XI/021 | X9: CR/25/XI/015 | Y9: 21 Nov 2025 | Z9: 21 Nov 2025 | AA9: 51984000 | AB9: 0 | AC9: MANDIRI GIRO - 1150004489177 -MVP - IDR
X10: CR/25/XII/022 | Y10: 12 Des 2025 | Z10: 12 Des 2025 | AA10: 121296000 | AB10: 0 | AC10: MANDIRI GIRO - 1150004489177 -MVP - IDR
J11: Note : CF Rp 21.280.000 | M11: =SUM(M9) -> 1.5610811e+08 | N11: =SUM(N9) -> 17171892 | O11: =SUM(O9) -> 173280000 | P11: =SUM(P9) -> 1.0954955e+08 | Q11: =SUM(Q9) -> 12050450 | R11: =SUM(R9) -> 0 | S11: =SUM(S9) -> 1.216e+08 | T11: =SUM(T9) -> 34508108 | AA11: =SUM(AA9:AA10) -> 173280000 | AB11: =SUM(AB9) -> 0
A13: 08 Des 2025 | B13: 6723 | C13: 16 Des 2025 | D13: SJ-MVP/V/25/12/023 | E13: 16 Des 2025 | F13: INV-MVP/V/25/12/242 | G13: SOLUSI SIMPEL INDONESIA. PT | H13: BUDIONO | I13: ABP | J13: FIXWALL BRACKET | K13: 24 | L13: 0 | M13: 0 | P13: =275000/1.11*24 -> 5945945.9 | Q13: =P13*11% -> 654054.05 | S13: =P13+Q13+R13 -> 6600000 | T13: =M13-S13 -> -6600000 | V13: PO-25/XII/016 | X13: CR/25/XII/017 | Y13: 10 Des 2025 | Z13: 10 Des 2025 | AA13: 88054800 | AB13: 0 | AC13: MANDIRI GIRO - 1150004489177 -MVP - IDR
A14: 08 Des 2025 | B14: 6723 | C14: 16 Des 2025 | D14: SJ-MVP/V/25/12/023 | E14: 16 Des 2025 | F14: INV-MVP/V/25/12/242 | G14: SOLUSI SIMPEL INDONESIA. PT | H14: BUDIONO | I14: ABP | J14: PANEL 5KVA | K14: 1 | L14: 0 | M14: 0 | P14: =2500000/1.11*1 -> 2252252.3 | Q14: =P14*11% -> 247747.75 | S14: =P14+Q14+R14 -> 2500000 | T14: =M14-S14 -> -2500000 | V14: PO-25/XII/016 | X14: CR/25/XII/049 | Y14: 30 Des 2025 | Z14: 30 Des 2025 | AA14: 205461200 | AB14: 0 | AC14: MANDIRI GIRO - 1150004489177 -MVP - IDR
A15: 08 Des 2025 | B15: 6723 | C15: 16 Des 2025 | D15: SJ-MVP/V/25/12/023 | E15: 16 Des 2025 | F15: INV-MVP/V/25/12/242 | G15: SOLUSI SIMPEL INDONESIA. PT | H15: BUDIONO | I15: ABP | J15: KABEL POWER 3X2.5 | K15: 150 | L15: 0 | M15: 0 | P15: =25000/1.11*150 -> 3378378.4 | Q15: =P15*11% -> 371621.62 | S15: =P15+Q15+R15 -> 3750000 | T15: =M15-S15 -> -3750000 | V15: PO-25/XII/016
A16: 08 Des 2025 | B16: 6723 | C16: 16 Des 2025 | D16: SJ-MVP/V/25/12/023 | E16: 16 Des 2025 | F16: INV-MVP/V/25/12/242 | G16: SOLUSI SIMPEL INDONESIA. PT | H16: BUDIONO | I16: ABP | J16: KABEL TUFUR 5X6MM | K16: 10 | L16: 0 | M16: 0 | P16: =125000/1.11*10 -> 1126126.1 | Q16: =P16*11% -> 123873.87 | S16: =P16+Q16+R16 -> 1250000 | T16: =M16-S16 -> -1250000 | V16: PO-25/XII/016
A17: 08 Des 2025 | B17: 6723 | C17: 16 Des 2025 | D17: SJ-MVP/V/25/12/023 | E17: 16 Des 2025 | F17: INV-MVP/V/25/12/242 | G17: SOLUSI SIMPEL INDONESIA. PT | H17: BUDIONO | I17: ABP | J17: BELDEN CAT6 UTP | K17: 1 | L17: 0 | M17: 0 | P17: =2500000/1.11*1 -> 2252252.3 | Q17: =P17*11% -> 247747.75 | S17: =P17+Q17+R17 -> 2500000 | T17: =M17-S17 -> -2500000 | V17: PO-25/XII/016
A18: 08 Des 2025 | B18: 6723 | C18: 16 Des 2025 | D18: SJ-MVP/V/25/12/023 | E18: 16 Des 2025 | F18: INV-MVP/V/25/12/242 | G18: SOLUSI SIMPEL INDONESIA. PT | H18: BUDIONO | I18: 06,05,02,005 | J18: BELYST HDMI BLCH-2 | K18: 2 | L18: 0 | M18: 0 | P18: =K18*2.21*16635 -> 73526.7 | R18: =P18*20% -> 14705.34 | S18: =P18+Q18+R18 -> 88232.04 | T18: =M18-S18 -> -88232.04 | V18: PO-25/III/009
A19: 08 Des 2025 | B19: 6723 | C19: 16 Des 2025 | D19: SJ-MVP/V/25/12/023 | E19: 16 Des 2025 | F19: INV-MVP/V/25/12/242 | G19: SOLUSI SIMPEL INDONESIA. PT | H19: BUDIONO | I19: 24,01,00,124 | J19: BELYST LED CONTROLLER VPC2S | K19: 1 | L19: 0 | M19: 0 | P19: =100.8*K19*16470 -> 1660176 | R19: =P19*20% -> 332035.2 | S19: =P19+Q19+R19 -> 1992211.2 | T19: =M19-S19 -> -1992211.2 | V19: PO-25/VII/023
A20: 08 Des 2025 | B20: 6723 | C20: 16 Des 2025 | D20: SJ-MVP/V/25/12/023 | E20: 16 Des 2025 | F20: INV-MVP/V/25/12/242 | G20: SOLUSI SIMPEL INDONESIA. PT | H20: BUDIONO | I20: 21,05,39,038 | J20: Connection Cable for LED Display module Part No: EIDID70CC01 | K20: 72 | L20: 0 | M20: 0 | P20: =1.12*K20*16195 -> 1305964.8 | R20: =P20*20% -> 261192.96 | S20: =P20+Q20+R20 -> 1567157.8 | T20: =M20-S20 -> -1567157.8 | V20: PO-25/I/002
A21: 08 Des 2025 | B21: 6723 | C21: 16 Des 2025 | D21: SJ-MVP/V/25/12/023 | E21: 16 Des 2025 | F21: INV-MVP/V/25/12/242 | G21: SOLUSI SIMPEL INDONESIA. PT | H21: BUDIONO | I21: 21,05,39,037 | J21: Connection Cable for LED Display module Part No: EIDID55CC01 | K21: 24 | L21: 0 | M21: 0 | P21: =0.38*K21*16195 -> 147698.4 | R21: =P21*20% -> 29539.68 | S21: =P21+Q21+R21 -> 177238.08 | T21: =M21-S21 -> -177238.08 | V21: PO-25/I/002
A22: 08 Des 2025 | B22: 6723 | C22: 16 Des 2025 | D22: SJ-MVP/V/25/12/023 | E22: 16 Des 2025 | F22: INV-MVP/V/25/12/242 | G22: SOLUSI SIMPEL INDONESIA. PT | H22: BUDIONO | I22: 21,05,39,108 | J22: Connection Cable for LED Display module Part No: EIDID80CC01 | K22: 24 | L22: 0 | M22: 0 | P22: =1.26*K22*16195 -> 489736.8 | R22: =P22*20% -> 97947.36 | S22: =P22+Q22+R22 -> 587684.16 | T22: =M22-S22 -> -587684.16 | V22: PO-25/I/002
A23: 08 Des 2025 | B23: 6723 | C23: 16 Des 2025 | D23: SJ-MVP/V/25/12/023 | E23: 16 Des 2025 | F23: INV-MVP/V/25/12/242 | G23: SOLUSI SIMPEL INDONESIA. PT | H23: BUDIONO | I23: 10,04,00,008 | J23: ELINK HDX-107UHD | K23: 1 | L23: 0 | M23: 0 | P23: =K23*93.45*16635 -> 1554540.8 | R23: =P23*20% -> 310908.15 | S23: =P23+Q23+R23 -> 1865448.9 | T23: =M23-S23 -> -1865448.9 | V23: PO-25/III/009
A24: 08 Des 2025 | B24: 6723 | C24: 16 Des 2025 | D24: SJ-MVP/V/25/12/023 | E24: 16 Des 2025 | F24: INV-MVP/V/25/12/242 | G24: SOLUSI SIMPEL INDONESIA. PT | H24: BUDIONO | I24: INSTALASI | J24: INSTALASI | K24: 1 | L24: 0 | M24: 0 | P24: =6360000/1.11 -> 5729729.7 | Q24: =P24*11% -> 630270.27 | S24: =P24+Q24+R24 -> 6360000 | T24: =M24-S24 -> -6360000 | V24: PO-25/XII/016
A25: 08 Des 2025 | B25: 6723 | C25: 16 Des 2025 | D25: SJ-MVP/V/25/12/023 | E25: 16 Des 2025 | F25: INV-MVP/V/25/12/242 | G25: SOLUSI SIMPEL INDONESIA. PT | H25: BUDIONO | I25: 21,05,39,080 | J25: Kabinet LED | K25: 24 | L25: 0 | M25: 0 | P25: =K25*474389 -> 11385336 | Q25: =P25*11% -> 1252387 | S25: =P25+Q25+R25 -> 12637723 | T25: =M25-S25 -> -12637723 | V25: PO-25/I/013
A26: 08 Des 2025 | B26: 6723 | C26: 16 Des 2025 | D26: SJ-MVP/V/25/12/023 | E26: 16 Des 2025 | F26: INV-MVP/V/25/12/242 | G26: SOLUSI SIMPEL INDONESIA. PT | H26: BUDIONO | I26: 30,00,00,005 | J26: Module LED Indoor P2.5 | K26: 4 | L26: 0 | M26: 0 | P26: =21.49*K26*16195 -> 1392122.2 | R26: =P26*20% -> 278424.44 | S26: =P26+Q26+R26 -> 1670546.6 | T26: =M26-S26 -> -1670546.6 | V26: PO-25/I/002
A27: 08 Des 2025 | B27: 6723 | C27: 16 Des 2025 | D27: SJ-MVP/V/25/12/023 | E27: 16 Des 2025 | F27: INV-MVP/V/25/12/242 | G27: SOLUSI SIMPEL INDONESIA. PT | H27: BUDIONO | I27: 30,00,00,005 | J27: Module LED Indoor P2.5 | K27: 244 | L27: 0 | M27: 0 | P27: =21.49*K27*16195 -> 84919454 | R27: =P27*20% -> 16983891 | S27: =P27+Q27+R27 -> 1.0190335e+08 | T27: =M27-S27 -> -1.0190335e+08 | V27: PO-25/I/002
A28: 08 Des 2025 | B28: 6723 | C28: 16 Des 2025 | D28: SJ-MVP/V/25/12/023 | E28: 16 Des 2025 | F28: INV-MVP/V/25/12/242 | G28: SOLUSI SIMPEL INDONESIA. PT | H28: BUDIONO | I28: 21,05,39,036 | J28: Network Cable for LED Display Module Part No: EIDID00NC01 | K28: 24 | L28: 0 | M28: 0 | P28: =1.13*K28*16195 -> 439208.4 | R28: =P28*20% -> 87841.68 | S28: =P28+Q28+R28 -> 527050.08 | T28: =M28-S28 -> -527050.08 | V28: PO-25/I/002
A29: 08 Des 2025 | B29: 6723 | C29: 16 Des 2025 | D29: SJ-MVP/V/25/12/023 | E29: 16 Des 2025 | F29: INV-MVP/V/25/12/242 | G29: SOLUSI SIMPEL INDONESIA. PT | H29: BUDIONO | I29: GROUP-000677 | J29: Paket Videotron Indoor Belyst Wl2.5 | K29: 1 | L29: =293516000/1.11 -> 2.6442883e+08 | M29: =K29*L29 -> 2.6442883e+08 | N29: =M29*11% -> 29087171 | O29: =M29+N29 -> 293516000 | T29: =M29 -> 2.6442883e+08
A30: 08 Des 2025 | B30: 6723 | C30: 16 Des 2025 | D30: SJ-MVP/V/25/12/023 | E30: 16 Des 2025 | F30: INV-MVP/V/25/12/242 | G30: SOLUSI SIMPEL INDONESIA. PT | H30: BUDIONO | I30: 21,05,39,030 | J30: Power Supply for LED Display Module Part No: EIDID20MC01 | K30: 24 | L30: 0 | M30: 0 | O30: 0 | P30: =6.21*K30*16195 -> 2413702.8 | R30: =P30*20% -> 482740.56 | S30: =P30+Q30+R30 -> 2896443.4 | T30: =M30-S30 -> -2896443.4 | V30: PO-25/I/002
A31: 08 Des 2025 | B31: 6723 | C31: 16 Des 2025 | D31: SJ-MVP/V/25/12/023 | E31: 16 Des 2025 | F31: INV-MVP/V/25/12/242 | G31: SOLUSI SIMPEL INDONESIA. PT | H31: BUDIONO | I31: 21,05,39,028 | J31: Receiving Card for LED Display Module Part No: EIDID12PM01 | K31: 24 | L31: 0 | M31: 0 | O31: 0 | P31: =12.92*K31*16195 -> 5021745.6 | R31: =P31*20% -> 1004349.1 | S31: =P31+Q31+R31 -> 6026094.7 | T31: =M31-S31 -> -6026094.7 | V31: PO-25/I/002
A32: 08 Des 2025 | B32: 6723 | C32: 16 Des 2025 | D32: SJ-MVP/V/25/12/023 | E32: 16 Des 2025 | F32: INV-MVP/V/25/12/242 | G32: SOLUSI SIMPEL INDONESIA. PT | H32: BUDIONO | I32: 21,05,39,035 | J32: Signal Cable for LED Display module Part No: EIDID45SC01 | K32: 72 | L32: 0 | M32: 0 | O32: 0 | P32: =0.28*K32*16195 -> 326491.2 | R32: =P32*20% -> 65298.24 | S32: =P32+Q32+R32 -> 391789.44 | T32: =M32-S32 -> -391789.44 | V32: PO-25/I/002
A33: 08 Des 2025 | B33: 6723 | C33: 16 Des 2025 | D33: SJ-MVP/V/25/12/023 | E33: 16 Des 2025 | F33: INV-MVP/V/25/12/242 | G33: SOLUSI SIMPEL INDONESIA. PT | H33: BUDIONO | I33: 21,05,39,034 | J33: Signal Cable for LED Display module Part No: EIDID65SC01 | K33: 72 | L33: 0 | M33: 0 | O33: 0 | P33: =0.39*K33*16195 -> 454755.6 | R33: =P33*20% -> 90951.12 | S33: =P33+Q33+R33 -> 545706.72 | T33: =M33-S33 -> -545706.72 | V33: PO-25/I/002
J34: Note : CF Rp 53.900.000 | M34: =SUM(M13:M33) -> 2.6442883e+08 | N34: =SUM(N13:N33) -> 29087171 | O34: =SUM(O13:O33) -> 293516000 | P34: =SUM(P13:P33) -> 1.3226914e+08 | Q34: =SUM(Q13:Q33) -> 3527702.3 | R34: =SUM(R13:R33) -> 20039825 | S34: =SUM(S13:S33) -> 1.5583667e+08 | T34: =SUM(T13:T33) -> 1.0859216e+08 | AA34: =SUM(AA13:AA33) -> 293516000 | AB34: =SUM(AB13:AB33) -> 0
A36: 17 Des 2025 | B36: 6737 | C36: 20 Des 2025 | D36: SJ-MVP/V/25/12/031 | E36: 20 Des 2025 | F36: INV-MVP/V/25/12/244P | G36: PUTRA KITA | H36: BUDIONO | I36: 24,00,01,268 | J36: Televisi Led LG 43UT801C | K36: 5 | L36: =5765000/1.11 -> 5193693.7 | M36: =K36*L36 -> 25968468 | N36: =M36*11% -> 2856531.5 | O36: =M36+N36 -> 28825000 | P36: 22072072 | Q36: =P36*11% -> 2427927.9 | S36: =P36+Q36+R36 -> 24500000 | T36: 3896397 | V36: PO-25/XII/019 | X36: CR/25/XII/028 | Y36: 17 Des 2025 | Z36: 17 Des 2025 | AA36: 50525000 | AB36: 0 | AC36: BCA
A37: 17 Des 2025 | B37: 6737 | C37: 20 Des 2025 | D37: SJ-MVP/V/25/12/031 | E37: 20 Des 2025 | F37: INV-MVP/V/25/12/244P | G37: PUTRA KITA | H37: BUDIONO | I37: 24,00,01,269 | J37: Televisi Led LG 65UT801C | K37: 2 | L37: =10850000/1.11 -> 9774774.8 | M37: =K37*L37 -> 19549550 | N37: =M37*11% -> 2150450.5 | O37: =M37+N37 -> 21700000 | P37: 16576577 | Q37: =P37*11% -> 1823423.4 | S37: =P37+Q37+R37 -> 18400000 | T37: 2972973 | V37: PO-25/XII/019 | AA37: 0 | AB37: 0
M38: =SUM(M36:M37) -> 45518018 | N38: =SUM(N36:N37) -> 5006982 | O38: =SUM(O36:O37) -> 50525000 | P38: =SUM(P36:P37) -> 38648649 | Q38: =SUM(Q36:Q37) -> 4251351.3 | R38: =SUM(R36:R37) -> 0 | S38: =SUM(S36:S37) -> 42900000 | T38: =SUM(T36:T37) -> 6869370 | AA38: =SUM(AA36:AA37) -> 50525000 | AB38: =SUM(AB36:AB37) -> 0
M39: =M11+M34+M38 -> 4.6605495e+08 | N39: =N11+N34+N38 -> 51266045 | O39: =O11+O34+O38 -> 517321000 | P39: =P11+P34+P38 -> 2.8046734e+08 | Q39: =Q11+Q34+Q38 -> 19829504 | R39: =R11+R34+R38 -> 20039825 | S39: =S11+S34+S38 -> 3.2033667e+08 | T39: =T11+T34+T38 -> 1.4996964e+08 | AA39: =AA11+AA34+AA38 -> 517321000 | AB39: =AB11+AB34+AB38 -> 0 | AD39: =AA39+AB39 -> 517321000 | AE39: =O39 -> 517321000 | AF39: =AD39-AE39 -> 0

Sheet Biaya
A4: PT. MITSINDO VISUAL PRATAMA
A5: Rincian Daftar Pembayaran
A7: Dari Oct - Dec 2025
A9: Tgl JV | B9: No. JV | C9: No. Akun | D9: Nama Akun | E9: Catatan | F9: Nilai (Asing) | G9: Nama Bank | H9: No. Proyek | I9: Nama Dep
C11: 1,812,1,04 | D11: Beban Bensin, Parkir, Tol | E11: Bensin + parkir | F11: 150000 | H11: SO006737
C12: 1,812,1,04 | D12: Beban Bensin, Parkir, Tol | E12: Bensin + parkir | F12: 150000 | H12: SO006701
F13: =SUM(F11:F12) -> 300000
A15: 19 Des 2025 | B15: SNG/INV/2512-23049 | C15: 1,812,1,02 | D15: Beban Expedisi | E15: PENGIRIMAN BARANG UNTUK PROYEK MAUMERE II | F15: 3520000 | H15: SO006723 | I15: SO006723 - SOLUSI SIMPEL - PAKET LED P2.5 24 KABINET
F16: =SUM(F15) -> 3520000
A18: 11 Okt 2025 | B18: 25/OPB/X-056 | C18: 1,812,2,01 | D18: Beban Perjalanan dalam negeri | E18: Wilung - Traveloka - tiket Jkt - Maumere | F18: 8537400 | G18: Kas Kecil - Siti - IDR | H18: SO006632 | I18: ARIF BUDIONO
A19: 11 Okt 2025 | B19: 25/OPB/X-056 | C19: 1,812,2,01 | D19: Beban Perjalanan dalam negeri | E19: Wilung - Traveloka - tiket Jkt - Maumere | F19: 6594400 | G19: Kas Kecil - Siti - IDR | H19: SO006632 | I19: ARIF BUDIONO
A20: 12 Nop 2025 | B20: 25/OP/XI-056 | C20: 1,812,2,01 | D20: Beban Perjalanan dalam negeri | E20: Wilung - Traveloka - tiket Jkt - Maumere | F20: 7559200 | G20: Kas Kecil - Siti - IDR | H20: SO006632 | I20: ARIF BUDIONO
A21: 27 Jan 2026 | C21: 1,812,2,01 | D21: Beban Perjalanan dalam negeri | E21: Absori - Hotel | F21: 1725000 | G21: Kas Kecil - Siti - IDR | H21: SO006723 | I21: ARIF BUDIONO
A22: 27 Jan 2026 | C22: 1,812,2,01 | D22: Beban Perjalanan dalam negeri | E22: Absori - By. Transport grab, taxi | F22: 915140 | G22: Kas Kecil - Siti - IDR | H22: SO006723 | I22: ARIF BUDIONO
A23: 27 Jan 2026 | C23: 1,812,2,01 | D23: Beban Perjalanan dalam negeri | E23: Absori - Beli baut + screw | F23: 160000 | G23: Kas Kecil - Siti - IDR | H23: SO006723 | I23: ARIF BUDIONO
A24: 27 Jan 2026 | C24: 1,812,2,01 | D24: Beban Perjalanan dalam negeri | E24: Wilung - Beli tiket CGK-MOF (2 org) | F24: 7882201 | G24: Kas Kecil - Siti - IDR | H24: SO006723 | I24: ARIF BUDIONO
A25: 27 Jan 2026 | C25: 1,812,2,01 | D25: Beban Perjalanan dalam negeri | E25: Wilung - Beli tiket MOF-CGK (2 org) | F25: 6856400 | G25: Kas Kecil - Siti - IDR | H25: SO006723 | I25: ARIF BUDIONO
F26: =SUM(F18:F25) -> 40229741
A28: 15 Des 2025 | B28: 25/OP/XII-104 | C28: 1,816,6,00 | D28: Beban Perlengkapan Operasi | E28: Ravena - Beli kayu palet utk ngepak barang (SO 006723) | F28: 180000 | G28: Kas Kecil - Siti - IDR | H28: SO006723 | I28: ARIF BUDIONO
A29: 15 Des 2025 | B29: 25/OP/XII-108 | C29: 1,816,6,00 | D29: Beban Perlengkapan Operasi | E29: Ravena - Beli kayu palet utk ngepak barang (SO 006723) | F29: 142000 | G29: Kas Kecil - Siti - IDR | H29: SO006723 | I29: ARIF BUDIONO
F30: =SUM(F28:F29) -> 322000
A32: 22 Des 2025 | B32: 25/OP/XII-156 | C32: 1,821,2,01 | D32: Lemburan Project | E32: Iwan - Lemburan antar barang ekspedisi hari jaya cilacap (SO 006737) | F32: 100000 | G32: Kas Kecil - Siti - IDR | H32: SO006737 | I32: ARIF BUDIONO
F33: =SUM(F32) -> 100000
D35: Beban gaji | E35: Gaji - Oct 25 | F35: 4862500
D36: Beban gaji | E36: Gaji - Nov 25 | F36: 4862500
D37: Beban gaji | E37: Gaji - Dec 25 | F37: 4862500
F38: =SUM(F35:F37) -> 14587500
F39: =F13+F16+F26+F30+F33+F38 -> 59059241
